BEGIN:VCALENDAR
VERSION:2.0
PRODID:-//wp-events-plugin.com//7.2.3.1//EN
BEGIN:VEVENT
UID:828@bodywhys.ie
DTSTART:20250119T193000Z
DTEND:20250119T210000Z
DTSTAMP:20241211T165649Z
URL:https://www.bodywhys.ie/events/youthconnect-4/
SUMMARY:YouthConnect
DESCRIPTION:
CATEGORIES:Youth Connect
END:VEVENT
END:VCALENDAR