BEGIN:VCALENDAR
VERSION:2.0
PRODID:-//wp-events-plugin.com//7.2.3.1//EN
BEGIN:VEVENT
UID:876@bodywhys.ie
DTSTART:20250629T193000Z
DTEND:20250629T210000Z
DTSTAMP:20250314T160053Z
URL:https://www.bodywhys.ie/events/youthconnect-26/
SUMMARY:YouthConnect
DESCRIPTION:
CATEGORIES:Youth Connect
END:VEVENT
END:VCALENDAR