BEGIN:VCALENDAR
VERSION:2.0
PRODID:-//wp-events-plugin.com//7.2.3.1//EN
BEGIN:VEVENT
UID:863@bodywhys.ie
DTSTART:20250423T193000Z
DTEND:20250423T205000Z
DTSTAMP:20250314T121156Z
URL:https://www.bodywhys.ie/events/virtual-support-group-9/
SUMMARY:Virtual Support Group
DESCRIPTION:
CATEGORIES:Virtual Support Group
END:VEVENT
END:VCALENDAR