BEGIN:VCALENDAR
VERSION:2.0
PRODID:-//wp-events-plugin.com//7.2.3.1//EN
BEGIN:VEVENT
UID:1178@bodywhys.ie
DTSTART:20260623T190000Z
DTEND:20260623T210000Z
DTSTAMP:20260325T160958Z
URL:https://www.bodywhys.ie/events/new-maudsley-carer-skills-group-4-2026-
 04-14-2026-04-21-2026-04-28-2026-05-05-2026-05-12-2026-05-19-2026-05-26-20
 26-06-02-2026-06-09-2026-06-16-2026-06-23/
SUMMARY:New Maudsley Carer Skills Group
DESCRIPTION:An 8 workshop series for carers\, introducing carers to the New
  Maudsley Carer Skills. Places are limited so booking is required with pi
 lar@bodywhys.ie
CATEGORIES:New Maudsley Carer Skills Group
END:VEVENT
END:VCALENDAR