BEGIN:VCALENDAR
VERSION:2.0
PRODID:-//wp-events-plugin.com//7.2.3.1//EN
BEGIN:VEVENT
UID:2@bodywhys.ie
DTSTART:20220919T193000Z
DTEND:20220919T210000Z
DTSTAMP:20220926T072306Z
URL:https://www.bodywhys.ie/events/mens-online-support-group/
SUMMARY:Men's online support group
DESCRIPTION:
CATEGORIES:BodywhysConnect
END:VEVENT
END:VCALENDAR