BEGIN:VCALENDAR
VERSION:2.0
PRODID:-//wp-events-plugin.com//7.2.3.1//EN
BEGIN:VEVENT
UID:1196@bodywhys.ie
DTSTART:20260518T190000Z
DTEND:20260518T203000Z
DTSTAMP:20260325T162538Z
URL:https://www.bodywhys.ie/events/conversations-with-carers-body-image/
SUMMARY:Conversations with Carers - Body Image
DESCRIPTION:This group is a space to explore topics related to supporting s
 omeone with an eating disorder. Each online session will focus on a specif
 ic theme and will take place once monthly from 7-8.30pm online via Zoom. A
 ttendance at our PiLaR programme is recommended before attending Conversat
 ions with Carers.
CATEGORIES:Conversations with Carers
END:VEVENT
END:VCALENDAR