BEGIN:VCALENDAR
VERSION:2.0
PRODID:-//wp-events-plugin.com//7.2.3.1//EN
BEGIN:VEVENT
UID:773@bodywhys.ie
DTSTART:20250303T193000Z
DTEND:20250303T205000Z
DTSTAMP:20241209T162633Z
URL:https://www.bodywhys.ie/events/binge-eating-virtual-support-group-3/
SUMMARY:Binge Eating Virtual Support Group
DESCRIPTION:
CATEGORIES:Virtual Support Group
END:VEVENT
END:VCALENDAR